BEGIN:VCALENDAR
VERSION:2.0
PRODID:-//hacksw/handcal//NONSGML v1.0//EN
CALSCALE:GREGORIAN
BEGIN:VEVENT
ORGANIZER;CN=MediWound:MAILTO:no-reply@mail.gcs-web.com
DTEND:
UID:42c75019-72a1-44c4-a6d8-12b648582abe
DTSTAMP:1776785013
LOCATION:https://ir.mediwound.com/events/event-details/craig-hallum-23rd-annual-institutional-investor-conference
DESCRIPTION:Event Details https://ir.mediwound.com/events/event-details/craig-hallum-23rd-annual-institutional-investor-conference
URL;VALUE=URI:https://ir.mediwound.com/events/event-details/craig-hallum-23rd-annual-institutional-investor-conference
SUMMARY:MediWound - Craig-Hallum 23rd Annual Institutional Investor Conference
DTSTART:20260528T040000Z
END:VEVENT
END:VCALENDAR